BEGIN:VCALENDAR
VERSION:2.0
PRODID:-//wp-events-plugin.com//7.2.3.1//EN
TZID:Europe/Berlin
X-WR-TIMEZONE:Europe/Berlin
BEGIN:VEVENT
UID:155@theater-unikum.de
DTSTART;TZID=Europe/Berlin:20260502T200000
DTEND;TZID=Europe/Berlin:20260502T220000
DTSTAMP:20260317T075028Z
URL:https://theater-unikum.de/events/arkana-tv/
SUMMARY:Arkana TV
DESCRIPTION:Schauspiel\n\n“This is where the magic happens!”\n\nWillkom
 men bei Arkana TV - der wohl letzten Bastion rein analoger Unterhaltung. D
 er ehemalige Esoteriksender spielt mit offenen (Tarot-)Karten und gewährt
  einer kleinen Gruppe Auserwählter eine exklusive Studio-Tour. Doch im wu
 ndersamen Gewusel hinter den Kulissen von News\, Polit-Talk\, Shows und Pr
 omiklatsch geschehen beunruhigende Dinge. Es häufen sich grausige Omen da
 für\, dass der Sender seinen mystischen Wurzeln nicht entkommen kann.\n\n
 Die diesjährige Theaterwerkstatt behandelt das Thema “Medienwahnsinn”
  in einem selbst erarbeiteten Stück – lasst Euch begeistern!
ATTACH;FMTTYPE=image/jpeg:https://theater-unikum.de/wp-content/uploads/202
 6/02/Motiv-Programmheft_Arkana-TV.jpg
CATEGORIES:Schauspiel
LOCATION:Unikum Bühne 2\, Uhlhornsweg 49-55\, Oldenburg\, 26129\, Deutschl
 and
X-APPLE-STRUCTURED-LOCATION;VALUE=URI;X-ADDRESS=Uhlhornsweg 49-55\, Oldenbu
 rg\, 26129\, Deutschland;X-APPLE-RADIUS=100;X-TITLE=Unikum Bühne 2:geo:0,
 0
END:VEVENT
BEGIN:VTIMEZONE
TZID:Europe/Berlin
X-LIC-LOCATION:Europe/Berlin
BEGIN:DAYLIGHT
DTSTART:20260329T030000
TZOFFSETFROM:+0100
TZOFFSETTO:+0200
TZNAME:CEST
END:DAYLIGHT
END:VTIMEZONE
END:VCALENDAR